BEGIN:VCALENDAR
VERSION:2.0
PRODID:icalendar-ruby
CALSCALE:GREGORIAN
BEGIN:VEVENT
DTSTAMP:20260420T131525Z
UID:c90c2623-3fd3-4048-a2a7-b8c03cd37702
DTSTART;TZID=Pacific/Auckland:20260422T190000
DTEND;TZID=Pacific/Auckland:20260422T193000
DESCRIPTION:Property ID# 664675
SUMMARY:Openhome for 7 Bluebird Lane
END:VEVENT
END:VCALENDAR
